BEGIN:VCALENDAR
VERSION:2.0
PRODID:-//jEvents 2.0 for Joomla//EN
CALSCALE:GREGORIAN
METHOD:PUBLISH
BEGIN:VEVENT
UID:427df08fa9874a6f2b881134ea97f2c1
CATEGORIES:2015 Events
SUMMARY:Strategic Planning Meeting  
DESCRIPTION;ENCODING=QUOTED-PRINTABLE:\n\nStrategic Planning Meeting  :      Venue Mutare\n
DTSTAMP:20260425T174428Z
DTSTART:20150102T080000Z
DTEND:20151202T170000Z
SEQUENCE:0
TRANSP:OPAQUE
END:VEVENT
END:VCALENDAR