BEGIN:VCALENDAR
VERSION:2.0
PRODID:-//jEvents 2.0 for Joomla//EN
CALSCALE:GREGORIAN
METHOD:PUBLISH
BEGIN:VEVENT
UID:d5fc0978efe48d1a63d0e926ea0b9b79
CATEGORIES:2016 Upcoming Events
SUMMARY:ZITF
DESCRIPTION;ENCODING=QUOTED-PRINTABLE:\n\nZIFT\n
DTSTAMP:20260425T174346Z
DTSTART:20160818T080000Z
DTEND:20160820T170000Z
SEQUENCE:0
TRANSP:OPAQUE
END:VEVENT
END:VCALENDAR