BEGIN:VCALENDAR
VERSION:2.0
PRODID:-//jEvents 2.0 for Joomla//EN
CALSCALE:GREGORIAN
METHOD:PUBLISH
BEGIN:VEVENT
UID:2844fd3cf5f0882bed21f31713c37665
CATEGORIES:2015 Events
SUMMARY:RIOSET  :  Venue Bulawayo
DESCRIPTION;ENCODING=QUOTED-PRINTABLE:\n\nRIOSET   :   Venue Bulawayo\n
DTSTAMP:20260425T221215Z
DTSTART:20150202T080000Z
DTEND:20151202T170000Z
SEQUENCE:0
TRANSP:OPAQUE
END:VEVENT
END:VCALENDAR