BEGIN:VCALENDAR
VERSION:2.0
PRODID:-//jEvents 2.0 for Joomla//EN
CALSCALE:GREGORIAN
METHOD:PUBLISH
BEGIN:VEVENT
UID:8ff5abe3ab26351032feb0bb6ac42b5e
CATEGORIES:2016 Upcoming Events
SUMMARY:Harare Agricultural Show
DESCRIPTION;ENCODING=QUOTED-PRINTABLE:
DTSTAMP:20260425T174310Z
DTSTART:20160914T080000Z
DTEND:20160916T170000Z
SEQUENCE:0
TRANSP:OPAQUE
END:VEVENT
END:VCALENDAR